Package: sitePath Version: 1.24.1 Command: /Library/Frameworks/R.framework/Resources/bin/R CMD INSTALL sitePath StartedAt: 2025-10-13 15:18:48 -0400 (Mon, 13 Oct 2025) EndedAt: 2025-10-13 15:19:52 -0400 (Mon, 13 Oct 2025) EllapsedTime: 63.3 seconds RetCode: 0 Status: OK