Package: sitePath Version: 1.24.1 Command: rm -rf sitePath.buildbin-libdir && mkdir sitePath.buildbin-libdir && /Users/biocbuild/BBS/utils/build-universal.sh sitePath_1.24.1.tar.gz /Library/Frameworks/R.framework/Resources/bin/R sitePath.buildbin-libdir StartedAt: 2025-10-14 14:49:25 -0400 (Tue, 14 Oct 2025) EndedAt: 2025-10-14 14:50:47 -0400 (Tue, 14 Oct 2025) EllapsedTime: 82.4 seconds RetCode: 0 Status: OK PackageFile: sitePath_1.24.1.tgz PackageFileSize: 1.494 MiB