Package: singleCellTK Version: 2.18.1 Command: rm -rf singleCellTK.buildbin-libdir && mkdir singleCellTK.buildbin-libdir && E:\biocbuild\bbs-3.21-bioc\R\bin\R.exe CMD INSTALL --build --library=singleCellTK.buildbin-libdir singleCellTK_2.18.1.tar.gz StartedAt: 2025-08-15 10:20:04 -0400 (Fri, 15 Aug 2025) EndedAt: 2025-08-15 10:23:49 -0400 (Fri, 15 Aug 2025) EllapsedTime: 225.4 seconds RetCode: 0 Status: OK PackageFile: singleCellTK_2.18.1.zip PackageFileSize: 4.636 MiB