Package: singleCellTK Version: 2.18.2 Command: /Library/Frameworks/R.framework/Resources/bin/R CMD INSTALL singleCellTK StartedAt: 2025-10-13 16:45:22 -0400 (Mon, 13 Oct 2025) EndedAt: 2025-10-13 16:47:10 -0400 (Mon, 13 Oct 2025) EllapsedTime: 108.6 seconds RetCode: 0 Status: OK