Package: singleCellTK Version: 2.18.2 Command: /Library/Frameworks/R.framework/Resources/bin/R CMD check --install=check:singleCellTK.install-out.txt --library=/Library/Frameworks/R.framework/Resources/library --no-vignettes --timings singleCellTK_2.18.2.tar.gz StartedAt: 2025-10-14 10:32:03 -0400 (Tue, 14 Oct 2025) EndedAt: 2025-10-14 11:03:29 -0400 (Tue, 14 Oct 2025) EllapsedTime: 1885.9 seconds RetCode: 0 Status: OK CheckDir: singleCellTK.Rcheck Warnings: 0