Package: singleCellTK Version: 2.18.2 Command: /home/biocbuild/R/R/bin/R CMD INSTALL singleCellTK StartedAt: 2025-10-13 21:18:32 -0000 (Mon, 13 Oct 2025) EndedAt: 2025-10-13 21:19:35 -0000 (Mon, 13 Oct 2025) EllapsedTime: 63.4 seconds RetCode: 0 Status: OK