Package: singleCellTK Version: 2.18.2 Command: /home/biocbuild/R/R/bin/R CMD build --keep-empty-dirs --no-resave-data singleCellTK StartedAt: 2025-10-14 04:46:51 -0000 (Tue, 14 Oct 2025) EndedAt: 2025-10-14 04:47:59 -0000 (Tue, 14 Oct 2025) EllapsedTime: 68.0 seconds RetCode: 0 Status: OK PackageFile: singleCellTK_2.18.2.tar.gz PackageFileSize: 3.256 MiB