Package: simpleSeg Version: 1.10.1 Command: E:\biocbuild\bbs-3.21-bioc\R\bin\R.exe CMD INSTALL simpleSeg StartedAt: 2025-08-14 16:15:58 -0400 (Thu, 14 Aug 2025) EndedAt: 2025-08-14 16:17:07 -0400 (Thu, 14 Aug 2025) EllapsedTime: 69.4 seconds RetCode: 0 Status: OK