Package: simpleSeg Version: 1.10.1 Command: E:\biocbuild\bbs-3.21-bioc\R\bin\R.exe CMD check --no-multiarch --install=check:simpleSeg.install-out.txt --library=E:\biocbuild\bbs-3.21-bioc\R\library --no-vignettes --timings simpleSeg_1.10.1.tar.gz StartedAt: 2025-08-15 06:59:46 -0400 (Fri, 15 Aug 2025) EndedAt: 2025-08-15 07:08:40 -0400 (Fri, 15 Aug 2025) EllapsedTime: 533.8 seconds RetCode: 0 Status: OK CheckDir: simpleSeg.Rcheck Warnings: 0