Package: simpleSeg Version: 1.10.1 Command: /home/biocbuild/bbs-3.21-bioc/R/bin/R CMD INSTALL simpleSeg StartedAt: 2025-10-15 15:35:52 -0400 (Wed, 15 Oct 2025) EndedAt: 2025-10-15 15:36:41 -0400 (Wed, 15 Oct 2025) EllapsedTime: 49.9 seconds RetCode: 0 Status: OK