Package: simpleSeg Version: 1.10.1 Command: /home/biocbuild/bbs-3.21-bioc/R/bin/R CMD check --install=check:simpleSeg.install-out.txt --library=/home/biocbuild/bbs-3.21-bioc/R/site-library --timings simpleSeg_1.10.1.tar.gz StartedAt: 2025-10-16 03:39:56 -0400 (Thu, 16 Oct 2025) EndedAt: 2025-10-16 03:48:54 -0400 (Thu, 16 Oct 2025) EllapsedTime: 537.6 seconds RetCode: 0 Status: OK CheckDir: simpleSeg.Rcheck Warnings: 0