Package: simpleSeg Version: 1.10.1 Command: /home/biocbuild/bbs-3.21-bioc/R/bin/R CMD build --keep-empty-dirs --no-resave-data simpleSeg StartedAt: 2025-10-15 19:56:18 -0400 (Wed, 15 Oct 2025) EndedAt: 2025-10-15 19:59:01 -0400 (Wed, 15 Oct 2025) EllapsedTime: 163.2 seconds RetCode: 0 Status: OK PackageFile: simpleSeg_1.10.1.tar.gz PackageFileSize: 4.545 MiB