Package: simpleSeg Version: 1.10.1 Command: /Library/Frameworks/R.framework/Resources/bin/R CMD check --install=check:simpleSeg.install-out.txt --library=/Library/Frameworks/R.framework/Resources/library --no-vignettes --timings simpleSeg_1.10.1.tar.gz StartedAt: 2025-10-14 10:29:30 -0400 (Tue, 14 Oct 2025) EndedAt: 2025-10-14 10:42:46 -0400 (Tue, 14 Oct 2025) EllapsedTime: 795.6 seconds RetCode: 0 Status: OK CheckDir: simpleSeg.Rcheck Warnings: 0