Package: simpleSeg Version: 1.10.1 Command: rm -rf simpleSeg.buildbin-libdir && mkdir simpleSeg.buildbin-libdir && /Users/biocbuild/BBS/utils/build-universal.sh simpleSeg_1.10.1.tar.gz /Library/Frameworks/R.framework/Resources/bin/R simpleSeg.buildbin-libdir StartedAt: 2025-10-14 14:48:35 -0400 (Tue, 14 Oct 2025) EndedAt: 2025-10-14 14:50:38 -0400 (Tue, 14 Oct 2025) EllapsedTime: 122.3 seconds RetCode: 0 Status: OK PackageFile: simpleSeg_1.10.1.tgz PackageFileSize: 4.695 MiB