Package: simpleSeg Version: 1.10.1 Command: /home/biocbuild/R/R/bin/R CMD build --keep-empty-dirs --no-resave-data simpleSeg StartedAt: 2025-10-14 04:45:21 -0000 (Tue, 14 Oct 2025) EndedAt: 2025-10-14 04:49:55 -0000 (Tue, 14 Oct 2025) EllapsedTime: 274.2 seconds RetCode: 0 Status: OK PackageFile: simpleSeg_1.10.1.tar.gz PackageFileSize: 4.561 MiB