Package: simona Version: 1.6.0 Command: chmod a+r simona -R && E:\biocbuild\bbs-3.21-bioc\R\bin\R.exe CMD build --keep-empty-dirs --no-resave-data simona StartedAt: 2025-08-14 22:16:35 -0400 (Thu, 14 Aug 2025) EndedAt: 2025-08-14 22:18:44 -0400 (Thu, 14 Aug 2025) EllapsedTime: 128.6 seconds RetCode: 0 Status: OK PackageFile: simona_1.6.0.tar.gz PackageFileSize: 944.2 KiB