Package: simona Version: 1.6.0 Command: rm -rf simona.buildbin-libdir && mkdir simona.buildbin-libdir && E:\biocbuild\bbs-3.21-bioc\R\bin\R.exe CMD INSTALL --build --library=simona.buildbin-libdir simona_1.6.0.tar.gz StartedAt: 2025-08-15 10:19:42 -0400 (Fri, 15 Aug 2025) EndedAt: 2025-08-15 10:21:43 -0400 (Fri, 15 Aug 2025) EllapsedTime: 120.9 seconds RetCode: 0 Status: OK PackageFile: simona_1.6.0.zip PackageFileSize: 2.266 MiB