Package: simona Version: 1.6.0 Command: /Library/Frameworks/R.framework/Resources/bin/R CMD build --keep-empty-dirs --no-resave-data simona StartedAt: 2025-10-13 22:42:37 -0400 (Mon, 13 Oct 2025) EndedAt: 2025-10-13 22:44:56 -0400 (Mon, 13 Oct 2025) EllapsedTime: 138.8 seconds RetCode: 0 Status: OK PackageFile: simona_1.6.0.tar.gz PackageFileSize: 944.3 KiB