Package: simona Version: 1.6.0 Command: /home/biocbuild/R/R/bin/R CMD check --install=check:simona.install-out.txt --library=/home/biocbuild/R/R/site-library --no-vignettes --timings simona_1.6.0.tar.gz StartedAt: 2025-10-14 14:19:48 -0000 (Tue, 14 Oct 2025) EndedAt: 2025-10-14 14:22:53 -0000 (Tue, 14 Oct 2025) EllapsedTime: 184.3 seconds RetCode: 0 Status: OK CheckDir: simona.Rcheck Warnings: 0