Package: simona Version: 1.6.0 Command: /home/biocbuild/R/R/bin/R CMD build --keep-empty-dirs --no-resave-data simona StartedAt: 2025-10-14 04:44:48 -0000 (Tue, 14 Oct 2025) EndedAt: 2025-10-14 04:46:49 -0000 (Tue, 14 Oct 2025) EllapsedTime: 121.1 seconds RetCode: 0 Status: OK PackageFile: simona_1.6.0.tar.gz PackageFileSize: 944.7 KiB