Package: simona Version: 1.6.0 Command: rm -rf simona.buildbin-libdir && mkdir simona.buildbin-libdir && /Users/biocbuild/BBS/utils/build-universal.sh simona_1.6.0.tar.gz /Library/Frameworks/R.framework/Resources/bin/R simona.buildbin-libdir StartedAt: 2025-10-15 20:33:01 -0400 (Wed, 15 Oct 2025) EndedAt: 2025-10-15 20:34:17 -0400 (Wed, 15 Oct 2025) EllapsedTime: 76.0 seconds RetCode: 0 Status: OK PackageFile: simona_1.6.0.tgz PackageFileSize: 1.92 MiB