Package: similaRpeak Version: 1.40.0 Command: /Library/Frameworks/R.framework/Resources/bin/R CMD check --install=check:similaRpeak.install-out.txt --library=/Library/Frameworks/R.framework/Resources/library --no-vignettes --timings similaRpeak_1.40.0.tar.gz StartedAt: 2025-04-21 21:41:57 -0400 (Mon, 21 Apr 2025) EndedAt: 2025-04-21 21:42:09 -0400 (Mon, 21 Apr 2025) EllapsedTime: 12.1 seconds RetCode: 0 Status: OK CheckDir: similaRpeak.Rcheck Warnings: 0