Package: similaRpeak Version: 1.40.0 Command: rm -rf similaRpeak.buildbin-libdir && mkdir similaRpeak.buildbin-libdir && /Users/biocbuild/BBS/utils/build-universal.sh similaRpeak_1.40.0.tar.gz /Library/Frameworks/R.framework/Resources/bin/R similaRpeak.buildbin-libdir StartedAt: 2025-04-21 22:52:46 -0400 (Mon, 21 Apr 2025) EndedAt: 2025-04-21 22:52:49 -0400 (Mon, 21 Apr 2025) EllapsedTime: 3.1 seconds RetCode: 0 Status: OK PackageFile: similaRpeak_1.40.0.tgz PackageFileSize: 2.372 MiB