Package: similaRpeak Version: 1.40.0 Command: rm -rf similaRpeak.buildbin-libdir && mkdir similaRpeak.buildbin-libdir && /Users/biocbuild/BBS/utils/build-universal.sh similaRpeak_1.40.0.tar.gz /Library/Frameworks/R.framework/Resources/bin/R similaRpeak.buildbin-libdir StartedAt: 2025-10-15 20:32:53 -0400 (Wed, 15 Oct 2025) EndedAt: 2025-10-15 20:33:01 -0400 (Wed, 15 Oct 2025) EllapsedTime: 7.9 seconds RetCode: 0 Status: OK PackageFile: similaRpeak_1.40.0.tgz PackageFileSize: 2.38 MiB