Package: similaRpeak Version: 1.40.0 Maintainer: Astrid DeschĂȘnes MaintainerEmail: adeschen at hotmail.com git_url: https://git.bioconductor.org/packages/similaRpeak git_branch: RELEASE_3_21 git_last_commit: 136d0a7 git_last_commit_date: 2025-04-15 10:50:56 -0400 (Tue, 15 Apr 2025)