Package: sigsquared Version: 1.40.0 Command: /Library/Frameworks/R.framework/Resources/bin/R CMD INSTALL sigsquared StartedAt: 2025-10-13 15:24:18 -0400 (Mon, 13 Oct 2025) EndedAt: 2025-10-13 15:24:35 -0400 (Mon, 13 Oct 2025) EllapsedTime: 17.2 seconds RetCode: 0 Status: OK