Package: sigsquared Version: 1.40.0 Command: /Library/Frameworks/R.framework/Resources/bin/R CMD build --keep-empty-dirs --no-resave-data sigsquared StartedAt: 2025-10-13 22:41:44 -0400 (Mon, 13 Oct 2025) EndedAt: 2025-10-13 22:42:40 -0400 (Mon, 13 Oct 2025) EllapsedTime: 56.2 seconds RetCode: 0 Status: OK PackageFile: sigsquared_1.40.0.tar.gz PackageFileSize: 441.7 KiB