Package: signifinder Version: 1.10.0 Command: E:\biocbuild\bbs-3.21-bioc\R\bin\R.exe CMD check --no-multiarch --install=check:signifinder.install-out.txt --library=E:\biocbuild\bbs-3.21-bioc\R\library --no-vignettes --timings signifinder_1.10.0.tar.gz StartedAt: 2025-08-15 06:57:16 -0400 (Fri, 15 Aug 2025) EndedAt: 2025-08-15 07:22:17 -0400 (Fri, 15 Aug 2025) EllapsedTime: 1501.2 seconds RetCode: 0 Status: OK CheckDir: signifinder.Rcheck Warnings: 0