Package: signifinder Version: 1.10.0 Command: rm -rf signifinder.buildbin-libdir && mkdir signifinder.buildbin-libdir && E:\biocbuild\bbs-3.21-bioc\R\bin\R.exe CMD INSTALL --build --library=signifinder.buildbin-libdir signifinder_1.10.0.tar.gz StartedAt: 2025-08-15 10:19:09 -0400 (Fri, 15 Aug 2025) EndedAt: 2025-08-15 10:21:00 -0400 (Fri, 15 Aug 2025) EllapsedTime: 110.2 seconds RetCode: 0 Status: OK PackageFile: signifinder_1.10.0.zip PackageFileSize: 5.912 MiB