Package: signifinder Version: 1.10.0 Command: /home/biocbuild/bbs-3.21-bioc/R/bin/R CMD INSTALL signifinder StartedAt: 2025-10-15 15:59:21 -0400 (Wed, 15 Oct 2025) EndedAt: 2025-10-15 16:00:15 -0400 (Wed, 15 Oct 2025) EllapsedTime: 54.6 seconds RetCode: 0 Status: OK