Package: signifinder Version: 1.10.0 Command: /home/biocbuild/bbs-3.21-bioc/R/bin/R CMD build --keep-empty-dirs --no-resave-data signifinder StartedAt: 2025-10-15 19:55:24 -0400 (Wed, 15 Oct 2025) EndedAt: 2025-10-15 19:58:14 -0400 (Wed, 15 Oct 2025) EllapsedTime: 170.2 seconds RetCode: 0 Status: OK PackageFile: signifinder_1.10.0.tar.gz PackageFileSize: 9.547 MiB