Package: signifinder Version: 1.10.0 Command: /Library/Frameworks/R.framework/Resources/bin/R CMD INSTALL signifinder StartedAt: 2025-10-13 16:49:14 -0400 (Mon, 13 Oct 2025) EndedAt: 2025-10-13 16:51:09 -0400 (Mon, 13 Oct 2025) EllapsedTime: 115.1 seconds RetCode: 0 Status: OK