Package: signifinder Version: 1.10.0 Command: rm -rf signifinder.buildbin-libdir && mkdir signifinder.buildbin-libdir && /Users/biocbuild/BBS/utils/build-universal.sh signifinder_1.10.0.tar.gz /Library/Frameworks/R.framework/Resources/bin/R signifinder.buildbin-libdir StartedAt: 2025-10-14 14:48:08 -0400 (Tue, 14 Oct 2025) EndedAt: 2025-10-14 14:50:22 -0400 (Tue, 14 Oct 2025) EllapsedTime: 133.9 seconds RetCode: 0 Status: OK PackageFile: signifinder_1.10.0.tgz PackageFileSize: 7.473 MiB