Package: signifinder Version: 1.10.0 Command: /Library/Frameworks/R.framework/Resources/bin/R CMD build --keep-empty-dirs --no-resave-data signifinder StartedAt: 2025-10-14 09:31:02 -0400 (Tue, 14 Oct 2025) EndedAt: 2025-10-14 09:34:48 -0400 (Tue, 14 Oct 2025) EllapsedTime: 225.8 seconds RetCode: 0 Status: OK PackageFile: signifinder_1.10.0.tar.gz PackageFileSize: 9.821 MiB