Package: signatureSearch Version: 1.22.0 Command: chmod a+r signatureSearch -R && E:\biocbuild\bbs-3.21-bioc\R\bin\R.exe CMD build --keep-empty-dirs --no-resave-data signatureSearch StartedAt: 2025-08-14 22:15:19 -0400 (Thu, 14 Aug 2025) EndedAt: 2025-08-14 22:33:22 -0400 (Thu, 14 Aug 2025) EllapsedTime: 1082.9 seconds RetCode: 0 Status: OK PackageFile: signatureSearch_1.22.0.tar.gz PackageFileSize: 4.927 MiB