Package: signatureSearch Version: 1.22.0 Command: /Library/Frameworks/R.framework/Resources/bin/R CMD check --install=check:signatureSearch.install-out.txt --library=/Library/Frameworks/R.framework/Resources/library --no-vignettes --timings signatureSearch_1.22.0.tar.gz StartedAt: 2025-04-21 23:35:02 -0400 (Mon, 21 Apr 2025) EndedAt: 2025-04-21 23:46:22 -0400 (Mon, 21 Apr 2025) EllapsedTime: 680.1 seconds RetCode: 0 Status: OK CheckDir: signatureSearch.Rcheck Warnings: 0