Package: signatureSearch Version: 1.22.0 Command: /Library/Frameworks/R.framework/Resources/bin/R CMD INSTALL signatureSearch StartedAt: 2025-10-13 17:52:35 -0400 (Mon, 13 Oct 2025) EndedAt: 2025-10-13 17:54:47 -0400 (Mon, 13 Oct 2025) EllapsedTime: 132.3 seconds RetCode: 0 Status: OK