Package: signatureSearch Version: 1.22.0 Command: /Library/Frameworks/R.framework/Resources/bin/R CMD check --install=check:signatureSearch.install-out.txt --library=/Library/Frameworks/R.framework/Resources/library --no-vignettes --timings signatureSearch_1.22.0.tar.gz StartedAt: 2025-10-15 12:35:11 -0400 (Wed, 15 Oct 2025) EndedAt: 2025-10-15 12:46:19 -0400 (Wed, 15 Oct 2025) EllapsedTime: 667.9 seconds RetCode: 0 Status: OK CheckDir: signatureSearch.Rcheck Warnings: 0