Package: sights Version: 1.34.0 Command: /home/biocbuild/bbs-3.21-bioc/R/bin/R CMD build --keep-empty-dirs --no-resave-data sights StartedAt: 2025-10-15 19:55:00 -0400 (Wed, 15 Oct 2025) EndedAt: 2025-10-15 19:55:38 -0400 (Wed, 15 Oct 2025) EllapsedTime: 38.1 seconds RetCode: 0 Status: OK PackageFile: sights_1.34.0.tar.gz PackageFileSize: 5.393 MiB