Package: sights Version: 1.34.0 Command: /Library/Frameworks/R.framework/Resources/bin/R CMD INSTALL sights StartedAt: 2025-10-13 15:14:33 -0400 (Mon, 13 Oct 2025) EndedAt: 2025-10-13 15:15:37 -0400 (Mon, 13 Oct 2025) EllapsedTime: 63.2 seconds RetCode: 0 Status: OK