Package: sights Version: 1.34.0 Command: /Library/Frameworks/R.framework/Resources/bin/R CMD check --install=check:sights.install-out.txt --library=/Library/Frameworks/R.framework/Resources/library --no-vignettes --timings sights_1.34.0.tar.gz StartedAt: 2025-10-15 12:34:44 -0400 (Wed, 15 Oct 2025) EndedAt: 2025-10-15 12:36:45 -0400 (Wed, 15 Oct 2025) EllapsedTime: 120.6 seconds RetCode: 0 Status: OK CheckDir: sights.Rcheck Warnings: 0