Package: sigFeature Version: 1.26.0 Command: E:\biocbuild\bbs-3.21-bioc\R\bin\R.exe CMD check --no-multiarch --install=check:sigFeature.install-out.txt --library=E:\biocbuild\bbs-3.21-bioc\R\library --no-vignettes --timings sigFeature_1.26.0.tar.gz StartedAt: 2025-08-15 06:55:55 -0400 (Fri, 15 Aug 2025) EndedAt: 2025-08-15 07:00:16 -0400 (Fri, 15 Aug 2025) EllapsedTime: 260.9 seconds RetCode: 0 Status: WARNINGS CheckDir: sigFeature.Rcheck Warnings: 1