Package: shinyepico Version: 1.16.0 Command: /home/biocbuild/bbs-3.21-bioc/R/bin/R CMD INSTALL shinyepico StartedAt: 2025-10-08 15:41:40 -0400 (Wed, 08 Oct 2025) EndedAt: 2025-10-08 15:41:45 -0400 (Wed, 08 Oct 2025) EllapsedTime: 4.7 seconds RetCode: 0 Status: OK