Package: shinyMethyl Version: 1.44.0 Command: /home/biocbuild/bbs-3.21-bioc/R/bin/R CMD INSTALL shinyMethyl StartedAt: 2025-10-15 15:40:51 -0400 (Wed, 15 Oct 2025) EndedAt: 2025-10-15 15:41:37 -0400 (Wed, 15 Oct 2025) EllapsedTime: 46.0 seconds RetCode: 0 Status: OK