Package: shinyDSP Version: 1.0.3 Command: /Library/Frameworks/R.framework/Resources/bin/R CMD INSTALL shinyDSP StartedAt: 2025-10-13 16:43:15 -0400 (Mon, 13 Oct 2025) EndedAt: 2025-10-13 16:44:38 -0400 (Mon, 13 Oct 2025) EllapsedTime: 82.1 seconds RetCode: 0 Status: OK