Package: shinyDSP Version: 1.0.3 Command: /Library/Frameworks/R.framework/Resources/bin/R CMD check --install=check:shinyDSP.install-out.txt --library=/Library/Frameworks/R.framework/Resources/library --no-vignettes --timings shinyDSP_1.0.3.tar.gz StartedAt: 2025-10-14 10:22:51 -0400 (Tue, 14 Oct 2025) EndedAt: 2025-10-14 10:32:03 -0400 (Tue, 14 Oct 2025) EllapsedTime: 551.4 seconds RetCode: 0 Status: OK CheckDir: shinyDSP.Rcheck Warnings: 0