Package: shinyDSP Version: 1.0.3 Command: /Library/Frameworks/R.framework/Resources/bin/R CMD build --keep-empty-dirs --no-resave-data shinyDSP StartedAt: 2025-10-13 22:39:21 -0400 (Mon, 13 Oct 2025) EndedAt: 2025-10-13 22:49:48 -0400 (Mon, 13 Oct 2025) EllapsedTime: 627.4 seconds RetCode: 0 Status: OK PackageFile: shinyDSP_1.0.3.tar.gz PackageFileSize: 2.655 MiB