Package: shinyDSP Version: 1.0.3 Command: rm -rf shinyDSP.buildbin-libdir && mkdir shinyDSP.buildbin-libdir && /Users/biocbuild/BBS/utils/build-universal.sh shinyDSP_1.0.3.tar.gz /Library/Frameworks/R.framework/Resources/bin/R shinyDSP.buildbin-libdir StartedAt: 2025-10-14 14:47:17 -0400 (Tue, 14 Oct 2025) EndedAt: 2025-10-14 14:48:54 -0400 (Tue, 14 Oct 2025) EllapsedTime: 96.8 seconds RetCode: 0 Status: OK PackageFile: shinyDSP_1.0.3.tgz PackageFileSize: 1.732 MiB