Package: shinyDSP Version: 1.0.3 Command: /Library/Frameworks/R.framework/Resources/bin/R CMD check --install=check:shinyDSP.install-out.txt --library=/Library/Frameworks/R.framework/Resources/library --no-vignettes --timings shinyDSP_1.0.3.tar.gz StartedAt: 2025-10-15 12:26:25 -0400 (Wed, 15 Oct 2025) EndedAt: 2025-10-15 12:32:05 -0400 (Wed, 15 Oct 2025) EllapsedTime: 340.0 seconds RetCode: 0 Status: OK CheckDir: shinyDSP.Rcheck Warnings: 0