Package: shiny.gosling Version: 1.4.0 Command: /Library/Frameworks/R.framework/Resources/bin/R CMD INSTALL shiny.gosling StartedAt: 2025-09-29 15:15:11 -0400 (Mon, 29 Sep 2025) EndedAt: 2025-09-29 15:15:37 -0400 (Mon, 29 Sep 2025) EllapsedTime: 26.0 seconds RetCode: 0 Status: OK